BEGIN:VCALENDAR
VERSION:2.0
PRODID:icalendar-ruby
CALSCALE:GREGORIAN
METHOD:PUBLISH
BEGIN:VEVENT
DTSTAMP:20260423T115439Z
UID:64-64936@belovedchurch.ca
DTSTART:20240501T020000Z
DTEND:20240501T033000Z
CLASS:PUBLIC
CREATED:20240227T110948
DESCRIPTION:Team Night! If you're part of the GROW Team\, every first Tues
 day of the month is an important night to come be refreshed\, encouraged\,
  to learn\, and stay in the know about new developments.\nReady to join th
 e team? Discover Team is where we unpack more about how living our values 
 gives meaning to our mission\, creates a healthy team culture\, and provid
 es a pathway to serve alongside the BeLoved GROW Team.\nLocation: 6553 Por
 tsmouth Road\, Nanaimo\nTime: 7PM to 8:30PM\nPlease register to let us kno
 w you're coming.\nWhat to expect:\n7PM \n- Open in prayer\n- Team talk\n7:
 15PM \n- Discover Team hosted in a separate room for potential new team me
 mbers.\n- Team breakouts in auditorium hosted by leaders.\n8:45PM\n- Close
  out the evening.
LAST-MODIFIED:20240227T110948
LOCATION:6553 Portsmouth Road\, Nanaimo
SUMMARY:Team Night
URL;VALUE=URI:https://www.belovedchurch.ca/events/team-night/2024-04-30
ATTACH;FILENAME=TEAM-NIGHT.png;FMTTYPE=image/png:https://dq5pwpg1q8ru0.clou
 dfront.net/2024/02/27/18/34/10/2c042758-4543-4e92-b9f9-a27bd9d4963c/TEAM-N
 IGHT.png
END:VEVENT
END:VCALENDAR
